BEGIN:VCALENDAR
VERSION:2.0
PRODID:-//jEvents 2.0 for Joomla//EN
CALSCALE:GREGORIAN
METHOD:PUBLISH
BEGIN:VEVENT
UID:1bdc3dae18e0dda8e8a958c4ac4b987b
CATEGORIES:Gemeindehaus
CREATED:20251123T101742
SUMMARY:Bewegungsgruppe
DESCRIPTION:
CONTACT:Helga Heidkamp-Kurtze
DTSTAMP:20260425T124442
DTSTART:20260416T080000
DTEND:20260416T100000
SEQUENCE:0
TRANSP:OPAQUE
END:VEVENT
END:VCALENDAR