BEGIN:VCALENDAR
VERSION:2.0
PRODID:-//jEvents 2.0 for Joomla//EN
CALSCALE:GREGORIAN
METHOD:PUBLISH
BEGIN:VEVENT
UID:49bbd1db865e16d16d0df414f832082a
CATEGORIES:Gemeindehaus
CREATED:20251123T101631
SUMMARY:Bewegungsgruppe
DESCRIPTION:
CONTACT:Helga Heidkamp-Kurtze
DTSTAMP:20260425T132056
DTSTART:20260414T080000
DTEND:20260414T100000
SEQUENCE:0
TRANSP:OPAQUE
END:VEVENT
END:VCALENDAR