BEGIN:VCALENDAR
VERSION:2.0
PRODID:-//jEvents 2.0 for Joomla//EN
CALSCALE:GREGORIAN
METHOD:PUBLISH
BEGIN:VEVENT
UID:b418973c47c8768e8a0fc389b87bc550
CATEGORIES:Schutzhütte
CREATED:20260424T083051
SUMMARY:Sommerfest
DESCRIPTION:
DTSTAMP:20260426T014017
DTSTART;VALUE=DATE:20260613
DTEND;VALUE=DATE:20260614
SEQUENCE:0
TRANSP:OPAQUE
END:VEVENT
END:VCALENDAR