BEGIN:VCALENDAR
VERSION:2.0
PRODID:-//jEvents 2.0 for Joomla//EN
CALSCALE:GREGORIAN
METHOD:PUBLISH
BEGIN:VEVENT
UID:7e4206566170fabe4df600b0248e7ca1
CATEGORIES:Schutzhütte
CREATED:20260317T214738
SUMMARY:Privat
DESCRIPTION:
DTSTAMP:20260426T054444
DTSTART;VALUE=DATE:20260718
DTEND;VALUE=DATE:20260719
SEQUENCE:0
TRANSP:OPAQUE
END:VEVENT
END:VCALENDAR