BEGIN:VCALENDAR
VERSION:2.0
PRODID:-//jEvents 2.0 for Joomla//EN
CALSCALE:GREGORIAN
METHOD:PUBLISH
BEGIN:VEVENT
UID:0ab851e429fc5b4c2083820265abdeed
CATEGORIES:Schutzhütte
CREATED:20260315T094800
SUMMARY:Private Feier
DESCRIPTION:
DTSTAMP:20260425T130642
DTSTART;VALUE=DATE:20260411
DTEND;VALUE=DATE:20260412
SEQUENCE:0
TRANSP:OPAQUE
END:VEVENT
END:VCALENDAR