BEGIN:VCALENDAR
VERSION:2.0
PRODID:-//jEvents 2.0 for Joomla//EN
CALSCALE:GREGORIAN
METHOD:PUBLISH
BEGIN:VEVENT
UID:61a138896c89e44a3dec2b27a1402b4b
CATEGORIES:Gemeindehaus
CREATED:20260228T105541
SUMMARY:Privat
DESCRIPTION:
DTSTAMP:20260425T230224
DTSTART:20260307T100000
DTEND:20260307T190000
SEQUENCE:0
TRANSP:OPAQUE
END:VEVENT
END:VCALENDAR