BEGIN:VCALENDAR
VERSION:2.0
PRODID:-//jEvents 2.0 for Joomla//EN
CALSCALE:GREGORIAN
METHOD:PUBLISH
BEGIN:VEVENT
UID:06a0186f93cb209b6009d32f45c259bc
CATEGORIES:Gemeindehaus
CREATED:20260228T105420
SUMMARY:Privat
DESCRIPTION:
DTSTAMP:20260425T230219
DTSTART:20260207T100000
DTEND:20260207T190000
SEQUENCE:0
TRANSP:OPAQUE
END:VEVENT
END:VCALENDAR