BEGIN:VCALENDAR
VERSION:2.0
PRODID:-//jEvents 2.0 for Joomla//EN
CALSCALE:GREGORIAN
METHOD:PUBLISH
BEGIN:VEVENT
UID:7771aed6c18ae2c55ef5a012f3a90da1
CATEGORIES:Gemeindehaus
CREATED:20260228T095950
SUMMARY:Sicherheitsbereater
DESCRIPTION:
DTSTAMP:20260426T020010
DTSTART:20260319T170000
DTEND:20260319T200000
SEQUENCE:0
TRANSP:OPAQUE
END:VEVENT
END:VCALENDAR