BEGIN:VCALENDAR
VERSION:2.0
PRODID:-//jEvents 2.0 for Joomla//EN
CALSCALE:GREGORIAN
METHOD:PUBLISH
BEGIN:VEVENT
UID:1bdc3dae18e0dda8e8a958c4ac4b987b
CATEGORIES:Gemeindehaus
CREATED:19700101T010000
SUMMARY:Bewegungsgruppe
DESCRIPTION:
CONTACT:Helga Heidkamp-Kurtze
DTSTAMP:20260425T132713
DTSTART:20251204T090000
DTEND:20251204T110000
SEQUENCE:0
RRULE:FREQ=WEEKLY;COUNT=104;INTERVAL=1;BYDAY=TH
TRANSP:OPAQUE
END:VEVENT
END:VCALENDAR