BEGIN:VCALENDAR
VERSION:2.0
PRODID:-//jEvents 2.0 for Joomla//EN
CALSCALE:GREGORIAN
METHOD:PUBLISH
BEGIN:VEVENT
UID:49bbd1db865e16d16d0df414f832082a
CATEGORIES:Gemeindehaus
CREATED:19700101T010000
SUMMARY:Bewegungsgruppe
DESCRIPTION:
CONTACT:Helga Heidkamp-Kurtze
DTSTAMP:20260425T130312
DTSTART:20251202T090000
DTEND:20251202T110000
SEQUENCE:0
RRULE:FREQ=WEEKLY;COUNT=104;INTERVAL=1;BYDAY=TU
TRANSP:OPAQUE
END:VEVENT
END:VCALENDAR