BEGIN:VCALENDAR
VERSION:2.0
PRODID:-//jEvents 2.0 for Joomla//EN
CALSCALE:GREGORIAN
METHOD:PUBLISH
BEGIN:VEVENT
UID:a4cf7e5cc19c0fc687d12135e44a9e57
CATEGORIES:Gemeindehaus
CREATED:20251026T104158
SUMMARY:Privat
DESCRIPTION:
DTSTAMP:20260425T161737
DTSTART;VALUE=DATE:20260425
DTEND;VALUE=DATE:20260426
SEQUENCE:0
TRANSP:OPAQUE
END:VEVENT
END:VCALENDAR