BEGIN:VCALENDAR
VERSION:2.0
PRODID:-//jEvents 2.0 for Joomla//EN
CALSCALE:GREGORIAN
METHOD:PUBLISH
BEGIN:VEVENT
UID:e30fbee0050df783bf46350ed3d3a755
CATEGORIES:Gemeindehaus
CREATED:20251026T103704
SUMMARY:Privat
DESCRIPTION:
DTSTAMP:20260425T190600
DTSTART;VALUE=DATE:20260418
DTEND;VALUE=DATE:20260419
SEQUENCE:0
TRANSP:OPAQUE
END:VEVENT
END:VCALENDAR