BEGIN:VCALENDAR
VERSION:2.0
PRODID:-//jEvents 2.0 for Joomla//EN
CALSCALE:GREGORIAN
METHOD:PUBLISH
BEGIN:VEVENT
UID:27f9bafa4debfbb42c7b812c4548d16c
CATEGORIES:Gemeindehaus
CREATED:20250417T095508
SUMMARY:Privat
DESCRIPTION:
DTSTAMP:20260425T220313
DTSTART;VALUE=DATE:20260228
DTEND;VALUE=DATE:20260301
SEQUENCE:0
TRANSP:OPAQUE
END:VEVENT
END:VCALENDAR